BEGIN:VCALENDAR
VERSION:2.0
PRODID:-//Tyler County Amateur Radio  Association WD5TYL - ECPv6.8.3//NONSGML v1.0//EN
CALSCALE:GREGORIAN
METHOD:PUBLISH
X-WR-CALNAME:Tyler County Amateur Radio  Association WD5TYL
X-ORIGINAL-URL:https://wd5tyl.org
X-WR-CALDESC:Events for Tyler County Amateur Radio  Association WD5TYL
REFRESH-INTERVAL;VALUE=DURATION:PT1H
X-Robots-Tag:noindex
X-PUBLISHED-TTL:PT1H
BEGIN:VTIMEZONE
TZID:America/Chicago
BEGIN:DAYLIGHT
TZOFFSETFROM:-0600
TZOFFSETTO:-0500
TZNAME:CDT
DTSTART:20220313T080000
END:DAYLIGHT
BEGIN:STANDARD
TZOFFSETFROM:-0500
TZOFFSETTO:-0600
TZNAME:CST
DTSTART:20221106T070000
END:STANDARD
END:VTIMEZONE
BEGIN:VEVENT
DTSTART;TZID=America/Chicago:20220901T190000
DTEND;TZID=America/Chicago:20220901T200000
DTSTAMP:20260419T113457
CREATED:20220410T143241Z
LAST-MODIFIED:20220410T144105Z
UID:339-1662058800-1662062400@wd5tyl.org
SUMMARY:TCARA Club Meeting
DESCRIPTION:Please Join Us
URL:https://wd5tyl.org/event/tcara-club-meeting-4/
LOCATION:Woodville VFW Hall\, 203 Veterans Way\, Woodville\, TX\, United States
CATEGORIES:Club Meeting
END:VEVENT
END:VCALENDAR